BEGIN:VCALENDAR
VERSION:2.0
PRODID:-//eventon.com NONSGML v1.0//EN
CALSCALE:GREGORIAN
METHOD:PUBLISH
BEGIN:VEVENT
UID:69e583ef67c03
DTSTAMP:20260420T013959Z
DTSTART:20260426T080000Z
DTEND:20260426T093000Z
LOCATION:BZ Wellenried Wellenried 8\,  3150 Schwarzenburg
SUMMARY:Gottesdienst
DESCRIPTION:LIVESTREAM\nhttps://nlrg.ch/events/gottesdienst/var/ri-42.l-L1
URL:https://nlrg.ch/events/gottesdienst/var/ri-42.l-L1
END:VEVENT
END:VCALENDAR